BEGIN:VCALENDAR
VERSION:2.0
PRODID:-//Johnson City Convention &amp; Visitor Bureau - ECPv6.15.17//NONSGML v1.0//EN
CALSCALE:GREGORIAN
METHOD:PUBLISH
X-ORIGINAL-URL:https://visitjohnsoncitytn.com
X-WR-CALDESC:Events for Johnson City Convention &amp; Visitor Bureau
REFRESH-INTERVAL;VALUE=DURATION:PT1H
X-Robots-Tag:noindex
X-PUBLISHED-TTL:PT1H
BEGIN:VTIMEZONE
TZID:America/New_York
BEGIN:DAYLIGHT
TZOFFSETFROM:-0500
TZOFFSETTO:-0400
TZNAME:EDT
DTSTART:20250309T070000
END:DAYLIGHT
BEGIN:STANDARD
TZOFFSETFROM:-0400
TZOFFSETTO:-0500
TZNAME:EST
DTSTART:20251102T060000
END:STANDARD
BEGIN:DAYLIGHT
TZOFFSETFROM:-0500
TZOFFSETTO:-0400
TZNAME:EDT
DTSTART:20260308T070000
END:DAYLIGHT
BEGIN:STANDARD
TZOFFSETFROM:-0400
TZOFFSETTO:-0500
TZNAME:EST
DTSTART:20261101T060000
END:STANDARD
BEGIN:DAYLIGHT
TZOFFSETFROM:-0500
TZOFFSETTO:-0400
TZNAME:EDT
DTSTART:20270314T070000
END:DAYLIGHT
BEGIN:STANDARD
TZOFFSETFROM:-0400
TZOFFSETTO:-0500
TZNAME:EST
DTSTART:20271107T060000
END:STANDARD
END:VTIMEZONE
BEGIN:VEVENT
DTSTART;TZID=America/New_York:20260424T183000
DTEND;TZID=America/New_York:20260424T210000
DTSTAMP:20260424T100902
CREATED:20260407T150856Z
LAST-MODIFIED:20260407T150856Z
UID:10009117-1777055400-1777064400@visitjohnsoncitytn.com
SUMMARY:Calling All Musicians! - Open Mic Jam Session
DESCRIPTION: OPEN JAM SESSION @ OFF LEASH SOCIAL \nPlug in. Jump in. Play anything.\nJoin us for a laid-back\, high-energy Open Jam Session where anyone can jump in and play. No band\, no pressure—just great music\, good vibes\, and a crowd that’s here for it.\nWhether you’re a seasoned musician or just want to mess around and have fun\, this is your stage. Bring your instrument\, find your groove\, and be part of the sound.\n Dog-friendly always All skill levels welcome Full bar + food available\n Friday\, April 24 Starts at 6:30 PM Off Leash Social\nCome play\, or just hang out and enjoy the music. Either way\, it’s going to be a great night.
URL:https://visitjohnsoncitytn.com/event/calling-all-musicians-open-mic-jam-session/
LOCATION:Off Leash Social\, 234 Denny Mill Rd\, Johnson City\, TN\, 37604\, United States
CATEGORIES:Entertainment,Family Events,Food,Live Music,Live Performance,Outdoors
ATTACH;FMTTYPE=image/jpeg:https://visitjohnsoncitytn.com/wp-content/uploads/2026/04/666884563_935143945887380_6482108835489198044_n.jpg
END:VEVENT
BEGIN:VEVENT
DTSTART;VALUE=DATE:20260502
DTEND;VALUE=DATE:20260503
DTSTAMP:20260424T100902
CREATED:20260409T174912Z
LAST-MODIFIED:20260409T174912Z
UID:10009155-1777680000-1777766399@visitjohnsoncitytn.com
SUMMARY:Foam Party at Off Leash Social
DESCRIPTION:Foam Party at Off Leash Social \nGet ready… we’re turning the park into a giant foam pit.\nJoin us at Off Leash Social on Saturday\, May 2 for a massive foam party featuring a high-powered foam cannon that will cover the entire space in bubbles.\nDogs and humans alike can run\, jump\, and play in mountains of foam while enjoying drinks\, food\, and music in our outdoor venue.\nWhether you’re bringing your pup or just coming for the party\, this is one of the most unique and fun events in Johnson City.\n Huge foam cannon Dogs welcome off-leash Full bar + food available Music + high-energy atmosphere\nCome ready to get soaked.
URL:https://visitjohnsoncitytn.com/event/foam-party-at-off-leash-social/
LOCATION:Off Leash Social\, 234 Denny Mill Rd\, Johnson City\, TN\, 37604\, United States
CATEGORIES:Entertainment,Family Events,Food,Outdoors
ATTACH;FMTTYPE=image/jpeg:https://visitjohnsoncitytn.com/wp-content/uploads/2026/04/668208214_936045809130527_1675538591288387557_n.jpg
END:VEVENT
BEGIN:VEVENT
DTSTART;TZID=America/New_York:20260503T110000
DTEND;TZID=America/New_York:20260503T150000
DTSTAMP:20260424T100902
CREATED:20260409T175219Z
LAST-MODIFIED:20260409T175219Z
UID:10009156-1777806000-1777820400@visitjohnsoncitytn.com
SUMMARY:Sing-Along Brunch at Off Leash Social
DESCRIPTION:Sing-Along Brunch at Off Leash Social \nJoin us for great vibes\, great music\, and an unforgettable brunch experience!\nThis isn’t karaoke—no stage\, no solos\, no pressure. Just all the songs you know by heart\, sung together with a crowd that’s ready to have fun. \n Special brunch menu by The Kitchen @ Off Leash Guest food truck: Brunch Box 423 Music hosted by: DJ Jellie Fisch\nGates and kitchen open at 11:00 AM\nWe expect this event to fill up quickly\, and reservations will be available—don’t wait!\nBring your friends\, bring your voice\, and get ready to sing your heart out. 
URL:https://visitjohnsoncitytn.com/event/sing-along-brunch-at-off-leash-social/
LOCATION:Off Leash Social\, 234 Denny Mill Rd\, Johnson City\, TN\, 37604\, United States
CATEGORIES:Entertainment,Family Events,Food,Live Music,Live Performance,Outdoors
ATTACH;FMTTYPE=image/jpeg:https://visitjohnsoncitytn.com/wp-content/uploads/2026/04/660840470_932644739470634_5768318436112142783_n.jpg
END:VEVENT
BEGIN:VEVENT
DTSTART;TZID=America/New_York:20260508T190000
DTEND;TZID=America/New_York:20260508T210000
DTSTAMP:20260424T100902
CREATED:20260409T180121Z
LAST-MODIFIED:20260409T180121Z
UID:10009157-1778266800-1778274000@visitjohnsoncitytn.com
SUMMARY: Movie Night at Off Leash Social
DESCRIPTION: Movie Night at Off Leash Social\nJoin us for a laid-back night under the stars as we show the classic comedy The Big Lebowski on our massive outdoor screen.\nGrab a drink\, bring your friends (and your pups )\, and settle in for a fun\, relaxed evening at the best dog-friendly bar around.\n Full kitchen + bar available Dogs welcome off-leash Outdoor seating & great vibes\n Friday\, May 8 7:00 PM\nCome early\, get comfortable\, and enjoy the show — this one really ties the room together.
URL:https://visitjohnsoncitytn.com/event/movie-night-at-off-leash-social/
LOCATION:Off Leash Social\, 234 Denny Mill Rd\, Johnson City\, TN\, 37604\, United States
CATEGORIES:Entertainment,Family Events,Food,Outdoors
ATTACH;FMTTYPE=image/jpeg:https://visitjohnsoncitytn.com/wp-content/uploads/2026/04/663146161_935952445806530_1740370568012831565_n.jpg
END:VEVENT
BEGIN:VEVENT
DTSTART;TZID=America/New_York:20260515T190000
DTEND;TZID=America/New_York:20260515T210000
DTSTAMP:20260424T100902
CREATED:20260409T180700Z
LAST-MODIFIED:20260409T180700Z
UID:10009158-1778871600-1778878800@visitjohnsoncitytn.com
SUMMARY:Movie Night at Off Leash Social
DESCRIPTION: Movie Night at Off Leash Social\nJoin us for a laid-back night under the stars as we show the classic comedy Dazed and Confused on our massive outdoor screen.\nGrab a drink\, bring your friends (and your pups )\, and settle in for a fun\, relaxed evening at the best dog-friendly bar around.\n Full kitchen + bar available Dogs welcome off-leash Outdoor seating & great vibes\n Friday\, May 15 7:00 PM\nCome early\, get comfortable\, and enjoy the show — this one really ties the room together.
URL:https://visitjohnsoncitytn.com/event/movie-night-at-off-leash-social-2/
LOCATION:Off Leash Social\, 234 Denny Mill Rd\, Johnson City\, TN\, 37604\, United States
CATEGORIES:Entertainment,Family Events,Food,Outdoors
ATTACH;FMTTYPE=image/jpeg:https://visitjohnsoncitytn.com/wp-content/uploads/2026/04/662712844_935960645805710_7123436173621131234_n.jpg
END:VEVENT
BEGIN:VEVENT
DTSTART;TZID=America/New_York:20260522T190000
DTEND;TZID=America/New_York:20260522T210000
DTSTAMP:20260424T100902
CREATED:20260409T181027Z
LAST-MODIFIED:20260409T181027Z
UID:10009159-1779476400-1779483600@visitjohnsoncitytn.com
SUMMARY:Movie Night at Off Leash Social
DESCRIPTION: Movie Night at Off Leash Social\nWe’re bringing another культ classic to the big screen — Pulp Fiction.\nJoin us for a night under the stars as we play one of the most iconic films of all time on our massive outdoor screen. Grab a drink\, kick back\, and enjoy the vibe.\n Full kitchen + bar Dogs welcome off-leash Outdoor seating + great atmosphere\n Friday\, May 22 7:00 PM\nCome early\, get settled in\, and don’t miss this one — it’s a classic for a reason.
URL:https://visitjohnsoncitytn.com/event/movie-night-at-off-leash-social-3/
LOCATION:Off Leash Social\, 234 Denny Mill Rd\, Johnson City\, TN\, 37604\, United States
CATEGORIES:Entertainment,Food,Outdoors
ATTACH;FMTTYPE=image/jpeg:https://visitjohnsoncitytn.com/wp-content/uploads/2026/04/666645919_935988572469584_6749874120934882247_n.jpg
END:VEVENT
END:VCALENDAR