BEGIN:VCALENDAR
VERSION:2.0
PRODID:-//Johnson City Convention &amp; Visitor Bureau - ECPv6.15.17//NONSGML v1.0//EN
CALSCALE:GREGORIAN
METHOD:PUBLISH
X-WR-CALNAME:Johnson City Convention &amp; Visitor Bureau
X-ORIGINAL-URL:https://visitjohnsoncitytn.com
X-WR-CALDESC:Events for Johnson City Convention &amp; Visitor Bureau
REFRESH-INTERVAL;VALUE=DURATION:PT1H
X-Robots-Tag:noindex
X-PUBLISHED-TTL:PT1H
BEGIN:VTIMEZONE
TZID:America/New_York
BEGIN:DAYLIGHT
TZOFFSETFROM:-0500
TZOFFSETTO:-0400
TZNAME:EDT
DTSTART:20250309T070000
END:DAYLIGHT
BEGIN:STANDARD
TZOFFSETFROM:-0400
TZOFFSETTO:-0500
TZNAME:EST
DTSTART:20251102T060000
END:STANDARD
BEGIN:DAYLIGHT
TZOFFSETFROM:-0500
TZOFFSETTO:-0400
TZNAME:EDT
DTSTART:20260308T070000
END:DAYLIGHT
BEGIN:STANDARD
TZOFFSETFROM:-0400
TZOFFSETTO:-0500
TZNAME:EST
DTSTART:20261101T060000
END:STANDARD
BEGIN:DAYLIGHT
TZOFFSETFROM:-0500
TZOFFSETTO:-0400
TZNAME:EDT
DTSTART:20270314T070000
END:DAYLIGHT
BEGIN:STANDARD
TZOFFSETFROM:-0400
TZOFFSETTO:-0500
TZNAME:EST
DTSTART:20271107T060000
END:STANDARD
END:VTIMEZONE
BEGIN:VEVENT
DTSTART;TZID=America/New_York:20260517T193000
DTEND;TZID=America/New_York:20260517T233000
DTSTAMP:20260424T063520
CREATED:20260210T191415Z
LAST-MODIFIED:20260210T191415Z
UID:10008212-1779046200-1779060600@visitjohnsoncitytn.com
SUMMARY:Rock Band (The Video Game) Karaoke!
DESCRIPTION:You’ve missed it. We got it. Rock Band Karaoke! This is an all-ages-welcome event. Come sign up at Little Magic in Johnson City (for free) and play drums\, guitar\, bass\, or vocals on stage. Indulge your nostalgia\, or try it for the first time 
URL:https://visitjohnsoncitytn.com/event/rock-band-the-video-game-karaoke/2026-05-17/
LOCATION:Little Magic Bar\, 121 N Commerce St\, Johnson City\, TN\, 37604\, United States
CATEGORIES:Entertainment,Food,Live Performance
ATTACH;FMTTYPE=image/jpeg:https://visitjohnsoncitytn.com/wp-content/uploads/2026/02/470202989_122117958194593893_1185099587277844162_n.jpg
END:VEVENT
BEGIN:VEVENT
DTSTART;TZID=America/New_York:20260621T193000
DTEND;TZID=America/New_York:20260621T233000
DTSTAMP:20260424T063520
CREATED:20260210T191415Z
LAST-MODIFIED:20260210T191415Z
UID:10008213-1782070200-1782084600@visitjohnsoncitytn.com
SUMMARY:Rock Band (The Video Game) Karaoke!
DESCRIPTION:You’ve missed it. We got it. Rock Band Karaoke! This is an all-ages-welcome event. Come sign up at Little Magic in Johnson City (for free) and play drums\, guitar\, bass\, or vocals on stage. Indulge your nostalgia\, or try it for the first time 
URL:https://visitjohnsoncitytn.com/event/rock-band-the-video-game-karaoke/2026-06-21/
LOCATION:Little Magic Bar\, 121 N Commerce St\, Johnson City\, TN\, 37604\, United States
CATEGORIES:Entertainment,Food,Live Performance
ATTACH;FMTTYPE=image/jpeg:https://visitjohnsoncitytn.com/wp-content/uploads/2026/02/470202989_122117958194593893_1185099587277844162_n.jpg
END:VEVENT
BEGIN:VEVENT
DTSTART;TZID=America/New_York:20260719T193000
DTEND;TZID=America/New_York:20260719T233000
DTSTAMP:20260424T063520
CREATED:20260210T191415Z
LAST-MODIFIED:20260210T191415Z
UID:10008214-1784489400-1784503800@visitjohnsoncitytn.com
SUMMARY:Rock Band (The Video Game) Karaoke!
DESCRIPTION:You’ve missed it. We got it. Rock Band Karaoke! This is an all-ages-welcome event. Come sign up at Little Magic in Johnson City (for free) and play drums\, guitar\, bass\, or vocals on stage. Indulge your nostalgia\, or try it for the first time 
URL:https://visitjohnsoncitytn.com/event/rock-band-the-video-game-karaoke/2026-07-19/
LOCATION:Little Magic Bar\, 121 N Commerce St\, Johnson City\, TN\, 37604\, United States
CATEGORIES:Entertainment,Food,Live Performance
ATTACH;FMTTYPE=image/jpeg:https://visitjohnsoncitytn.com/wp-content/uploads/2026/02/470202989_122117958194593893_1185099587277844162_n.jpg
END:VEVENT
BEGIN:VEVENT
DTSTART;TZID=America/New_York:20260816T193000
DTEND;TZID=America/New_York:20260816T233000
DTSTAMP:20260424T063520
CREATED:20260210T191415Z
LAST-MODIFIED:20260210T191415Z
UID:10008215-1786908600-1786923000@visitjohnsoncitytn.com
SUMMARY:Rock Band (The Video Game) Karaoke!
DESCRIPTION:You’ve missed it. We got it. Rock Band Karaoke! This is an all-ages-welcome event. Come sign up at Little Magic in Johnson City (for free) and play drums\, guitar\, bass\, or vocals on stage. Indulge your nostalgia\, or try it for the first time 
URL:https://visitjohnsoncitytn.com/event/rock-band-the-video-game-karaoke/2026-08-16/
LOCATION:Little Magic Bar\, 121 N Commerce St\, Johnson City\, TN\, 37604\, United States
CATEGORIES:Entertainment,Food,Live Performance
ATTACH;FMTTYPE=image/jpeg:https://visitjohnsoncitytn.com/wp-content/uploads/2026/02/470202989_122117958194593893_1185099587277844162_n.jpg
END:VEVENT
BEGIN:VEVENT
DTSTART;TZID=America/New_York:20260920T193000
DTEND;TZID=America/New_York:20260920T233000
DTSTAMP:20260424T063520
CREATED:20260210T191415Z
LAST-MODIFIED:20260210T191415Z
UID:10008216-1789932600-1789947000@visitjohnsoncitytn.com
SUMMARY:Rock Band (The Video Game) Karaoke!
DESCRIPTION:You’ve missed it. We got it. Rock Band Karaoke! This is an all-ages-welcome event. Come sign up at Little Magic in Johnson City (for free) and play drums\, guitar\, bass\, or vocals on stage. Indulge your nostalgia\, or try it for the first time 
URL:https://visitjohnsoncitytn.com/event/rock-band-the-video-game-karaoke/2026-09-20/
LOCATION:Little Magic Bar\, 121 N Commerce St\, Johnson City\, TN\, 37604\, United States
CATEGORIES:Entertainment,Food,Live Performance
ATTACH;FMTTYPE=image/jpeg:https://visitjohnsoncitytn.com/wp-content/uploads/2026/02/470202989_122117958194593893_1185099587277844162_n.jpg
END:VEVENT
BEGIN:VEVENT
DTSTART;TZID=America/New_York:20261018T193000
DTEND;TZID=America/New_York:20261018T233000
DTSTAMP:20260424T063520
CREATED:20260210T191415Z
LAST-MODIFIED:20260210T191415Z
UID:10008217-1792351800-1792366200@visitjohnsoncitytn.com
SUMMARY:Rock Band (The Video Game) Karaoke!
DESCRIPTION:You’ve missed it. We got it. Rock Band Karaoke! This is an all-ages-welcome event. Come sign up at Little Magic in Johnson City (for free) and play drums\, guitar\, bass\, or vocals on stage. Indulge your nostalgia\, or try it for the first time 
URL:https://visitjohnsoncitytn.com/event/rock-band-the-video-game-karaoke/2026-10-18/
LOCATION:Little Magic Bar\, 121 N Commerce St\, Johnson City\, TN\, 37604\, United States
CATEGORIES:Entertainment,Food,Live Performance
ATTACH;FMTTYPE=image/jpeg:https://visitjohnsoncitytn.com/wp-content/uploads/2026/02/470202989_122117958194593893_1185099587277844162_n.jpg
END:VEVENT
BEGIN:VEVENT
DTSTART;TZID=America/New_York:20261115T193000
DTEND;TZID=America/New_York:20261115T233000
DTSTAMP:20260424T063520
CREATED:20260210T191415Z
LAST-MODIFIED:20260210T191415Z
UID:10008218-1794771000-1794785400@visitjohnsoncitytn.com
SUMMARY:Rock Band (The Video Game) Karaoke!
DESCRIPTION:You’ve missed it. We got it. Rock Band Karaoke! This is an all-ages-welcome event. Come sign up at Little Magic in Johnson City (for free) and play drums\, guitar\, bass\, or vocals on stage. Indulge your nostalgia\, or try it for the first time 
URL:https://visitjohnsoncitytn.com/event/rock-band-the-video-game-karaoke/2026-11-15/
LOCATION:Little Magic Bar\, 121 N Commerce St\, Johnson City\, TN\, 37604\, United States
CATEGORIES:Entertainment,Food,Live Performance
ATTACH;FMTTYPE=image/jpeg:https://visitjohnsoncitytn.com/wp-content/uploads/2026/02/470202989_122117958194593893_1185099587277844162_n.jpg
END:VEVENT
END:VCALENDAR