BEGIN:VCALENDAR
VERSION:2.0
PRODID:-//Johnson City Convention &amp; Visitor Bureau - ECPv6.15.17//NONSGML v1.0//EN
CALSCALE:GREGORIAN
METHOD:PUBLISH
X-ORIGINAL-URL:https://visitjohnsoncitytn.com
X-WR-CALDESC:Events for Johnson City Convention &amp; Visitor Bureau
REFRESH-INTERVAL;VALUE=DURATION:PT1H
X-Robots-Tag:noindex
X-PUBLISHED-TTL:PT1H
BEGIN:VTIMEZONE
TZID:America/New_York
BEGIN:DAYLIGHT
TZOFFSETFROM:-0500
TZOFFSETTO:-0400
TZNAME:EDT
DTSTART:20250309T070000
END:DAYLIGHT
BEGIN:STANDARD
TZOFFSETFROM:-0400
TZOFFSETTO:-0500
TZNAME:EST
DTSTART:20251102T060000
END:STANDARD
BEGIN:DAYLIGHT
TZOFFSETFROM:-0500
TZOFFSETTO:-0400
TZNAME:EDT
DTSTART:20260308T070000
END:DAYLIGHT
BEGIN:STANDARD
TZOFFSETFROM:-0400
TZOFFSETTO:-0500
TZNAME:EST
DTSTART:20261101T060000
END:STANDARD
BEGIN:DAYLIGHT
TZOFFSETFROM:-0500
TZOFFSETTO:-0400
TZNAME:EDT
DTSTART:20270314T070000
END:DAYLIGHT
BEGIN:STANDARD
TZOFFSETFROM:-0400
TZOFFSETTO:-0500
TZNAME:EST
DTSTART:20271107T060000
END:STANDARD
END:VTIMEZONE
BEGIN:VEVENT
DTSTART;TZID=America/New_York:20260418T183000
DTEND;TZID=America/New_York:20260418T213000
DTSTAMP:20260419T103956
CREATED:20260417T170928Z
LAST-MODIFIED:20260417T170928Z
UID:10009315-1776537000-1776547800@visitjohnsoncitytn.com
SUMMARY:Dimestore Cowboys
DESCRIPTION:Holy Moly. DIMESTORE AT MAGIC?! Let’s goooo!  Holy Moly. DIMESTORE AT MAGIC?! Let’s goooo!
URL:https://visitjohnsoncitytn.com/event/dimestore-cowboys/
LOCATION:Little Magic Bar\, 121 N Commerce St\, Johnson City\, TN\, 37604\, United States
CATEGORIES:Entertainment,Food,Live Music,Live Performance
ATTACH;FMTTYPE=image/jpeg:https://visitjohnsoncitytn.com/wp-content/uploads/2026/04/670607690_17948532354132112_532850670501534160_n.jpg
END:VEVENT
END:VCALENDAR