BEGIN:VCALENDAR
VERSION:2.0
PRODID:-//Johnson City Convention &amp; Visitor Bureau - ECPv6.15.17//NONSGML v1.0//EN
CALSCALE:GREGORIAN
METHOD:PUBLISH
X-WR-CALNAME:Johnson City Convention &amp; Visitor Bureau
X-ORIGINAL-URL:https://visitjohnsoncitytn.com
X-WR-CALDESC:Events for Johnson City Convention &amp; Visitor Bureau
REFRESH-INTERVAL;VALUE=DURATION:PT1H
X-Robots-Tag:noindex
X-PUBLISHED-TTL:PT1H
BEGIN:VTIMEZONE
TZID:America/New_York
BEGIN:DAYLIGHT
TZOFFSETFROM:-0500
TZOFFSETTO:-0400
TZNAME:EDT
DTSTART:20250309T070000
END:DAYLIGHT
BEGIN:STANDARD
TZOFFSETFROM:-0400
TZOFFSETTO:-0500
TZNAME:EST
DTSTART:20251102T060000
END:STANDARD
BEGIN:DAYLIGHT
TZOFFSETFROM:-0500
TZOFFSETTO:-0400
TZNAME:EDT
DTSTART:20260308T070000
END:DAYLIGHT
BEGIN:STANDARD
TZOFFSETFROM:-0400
TZOFFSETTO:-0500
TZNAME:EST
DTSTART:20261101T060000
END:STANDARD
BEGIN:DAYLIGHT
TZOFFSETFROM:-0500
TZOFFSETTO:-0400
TZNAME:EDT
DTSTART:20270314T070000
END:DAYLIGHT
BEGIN:STANDARD
TZOFFSETFROM:-0400
TZOFFSETTO:-0500
TZNAME:EST
DTSTART:20271107T060000
END:STANDARD
END:VTIMEZONE
BEGIN:VEVENT
DTSTART;TZID=America/New_York:20260623T140000
DTEND;TZID=America/New_York:20260623T150000
DTSTAMP:20260419T114527
CREATED:20260414T172206Z
LAST-MODIFIED:20260414T172206Z
UID:10009269-1782223200-1782226800@visitjohnsoncitytn.com
SUMMARY:Storytelling Live: Noa Baum
DESCRIPTION:Born and raised in Israel\, Noa Baum uses her art to build bridges of peace and understanding.  Her stories\, drawn from diverse cultures but primarily from her Jewish heritage and personal experience\, highlight our similarities\, celebrate our differences\, and encourage curiosity\, awareness\, and acceptance.  Baum has performed for audiences in Turkey\, Sweden\, Israel\, the UK\, and across the U.S.\, including the World Bank\, and the Kennedy Center.  She is the author of two award-winning books: A Land Twice Promised – an Israeli Woman’s Quest for Peace and How the Birds Became Friends\, a picture book on the power of kindness to create change. \nNoa Baum spreads cultural truths that eclipse geopolitical boundaries … her stories transcend their roots.  – The Washington Post
URL:https://visitjohnsoncitytn.com/event/storytelling-live-noa-baum/2026-06-23/
LOCATION:International Storytelling Center\, 100 W. Main Street\, Jonesborough\, TN\, 37659\, United States
CATEGORIES:Cultural Experiences,Entertainment,Family Events,Live Performance
ATTACH;FMTTYPE=image/png:https://visitjohnsoncitytn.com/wp-content/uploads/2026/04/Noa.png
END:VEVENT
BEGIN:VEVENT
DTSTART;TZID=America/New_York:20260624T140000
DTEND;TZID=America/New_York:20260624T150000
DTSTAMP:20260419T114527
CREATED:20260414T172206Z
LAST-MODIFIED:20260414T172206Z
UID:10009270-1782309600-1782313200@visitjohnsoncitytn.com
SUMMARY:Storytelling Live: Noa Baum
DESCRIPTION:Born and raised in Israel\, Noa Baum uses her art to build bridges of peace and understanding.  Her stories\, drawn from diverse cultures but primarily from her Jewish heritage and personal experience\, highlight our similarities\, celebrate our differences\, and encourage curiosity\, awareness\, and acceptance.  Baum has performed for audiences in Turkey\, Sweden\, Israel\, the UK\, and across the U.S.\, including the World Bank\, and the Kennedy Center.  She is the author of two award-winning books: A Land Twice Promised – an Israeli Woman’s Quest for Peace and How the Birds Became Friends\, a picture book on the power of kindness to create change. \nNoa Baum spreads cultural truths that eclipse geopolitical boundaries … her stories transcend their roots.  – The Washington Post
URL:https://visitjohnsoncitytn.com/event/storytelling-live-noa-baum/2026-06-24/
LOCATION:International Storytelling Center\, 100 W. Main Street\, Jonesborough\, TN\, 37659\, United States
CATEGORIES:Cultural Experiences,Entertainment,Family Events,Live Performance
ATTACH;FMTTYPE=image/png:https://visitjohnsoncitytn.com/wp-content/uploads/2026/04/Noa.png
END:VEVENT
BEGIN:VEVENT
DTSTART;TZID=America/New_York:20260625T140000
DTEND;TZID=America/New_York:20260625T150000
DTSTAMP:20260419T114527
CREATED:20260414T172206Z
LAST-MODIFIED:20260414T172206Z
UID:10009271-1782396000-1782399600@visitjohnsoncitytn.com
SUMMARY:Storytelling Live: Noa Baum
DESCRIPTION:Born and raised in Israel\, Noa Baum uses her art to build bridges of peace and understanding.  Her stories\, drawn from diverse cultures but primarily from her Jewish heritage and personal experience\, highlight our similarities\, celebrate our differences\, and encourage curiosity\, awareness\, and acceptance.  Baum has performed for audiences in Turkey\, Sweden\, Israel\, the UK\, and across the U.S.\, including the World Bank\, and the Kennedy Center.  She is the author of two award-winning books: A Land Twice Promised – an Israeli Woman’s Quest for Peace and How the Birds Became Friends\, a picture book on the power of kindness to create change. \nNoa Baum spreads cultural truths that eclipse geopolitical boundaries … her stories transcend their roots.  – The Washington Post
URL:https://visitjohnsoncitytn.com/event/storytelling-live-noa-baum/2026-06-25/
LOCATION:International Storytelling Center\, 100 W. Main Street\, Jonesborough\, TN\, 37659\, United States
CATEGORIES:Cultural Experiences,Entertainment,Family Events,Live Performance
ATTACH;FMTTYPE=image/png:https://visitjohnsoncitytn.com/wp-content/uploads/2026/04/Noa.png
END:VEVENT
BEGIN:VEVENT
DTSTART;TZID=America/New_York:20260626T140000
DTEND;TZID=America/New_York:20260626T150000
DTSTAMP:20260419T114527
CREATED:20260414T172206Z
LAST-MODIFIED:20260414T172206Z
UID:10009272-1782482400-1782486000@visitjohnsoncitytn.com
SUMMARY:Storytelling Live: Noa Baum
DESCRIPTION:Born and raised in Israel\, Noa Baum uses her art to build bridges of peace and understanding.  Her stories\, drawn from diverse cultures but primarily from her Jewish heritage and personal experience\, highlight our similarities\, celebrate our differences\, and encourage curiosity\, awareness\, and acceptance.  Baum has performed for audiences in Turkey\, Sweden\, Israel\, the UK\, and across the U.S.\, including the World Bank\, and the Kennedy Center.  She is the author of two award-winning books: A Land Twice Promised – an Israeli Woman’s Quest for Peace and How the Birds Became Friends\, a picture book on the power of kindness to create change. \nNoa Baum spreads cultural truths that eclipse geopolitical boundaries … her stories transcend their roots.  – The Washington Post
URL:https://visitjohnsoncitytn.com/event/storytelling-live-noa-baum/2026-06-26/
LOCATION:International Storytelling Center\, 100 W. Main Street\, Jonesborough\, TN\, 37659\, United States
CATEGORIES:Cultural Experiences,Entertainment,Family Events,Live Performance
ATTACH;FMTTYPE=image/png:https://visitjohnsoncitytn.com/wp-content/uploads/2026/04/Noa.png
END:VEVENT
BEGIN:VEVENT
DTSTART;TZID=America/New_York:20260627T140000
DTEND;TZID=America/New_York:20260627T150000
DTSTAMP:20260419T114527
CREATED:20260414T172206Z
LAST-MODIFIED:20260414T172206Z
UID:10009273-1782568800-1782572400@visitjohnsoncitytn.com
SUMMARY:Storytelling Live: Noa Baum
DESCRIPTION:Born and raised in Israel\, Noa Baum uses her art to build bridges of peace and understanding.  Her stories\, drawn from diverse cultures but primarily from her Jewish heritage and personal experience\, highlight our similarities\, celebrate our differences\, and encourage curiosity\, awareness\, and acceptance.  Baum has performed for audiences in Turkey\, Sweden\, Israel\, the UK\, and across the U.S.\, including the World Bank\, and the Kennedy Center.  She is the author of two award-winning books: A Land Twice Promised – an Israeli Woman’s Quest for Peace and How the Birds Became Friends\, a picture book on the power of kindness to create change. \nNoa Baum spreads cultural truths that eclipse geopolitical boundaries … her stories transcend their roots.  – The Washington Post
URL:https://visitjohnsoncitytn.com/event/storytelling-live-noa-baum/2026-06-27/
LOCATION:International Storytelling Center\, 100 W. Main Street\, Jonesborough\, TN\, 37659\, United States
CATEGORIES:Cultural Experiences,Entertainment,Family Events,Live Performance
ATTACH;FMTTYPE=image/png:https://visitjohnsoncitytn.com/wp-content/uploads/2026/04/Noa.png
END:VEVENT
END:VCALENDAR