BEGIN:VCALENDAR
VERSION:2.0
PRODID:-//Johnson City Convention &amp; Visitor Bureau - ECPv6.15.17//NONSGML v1.0//EN
CALSCALE:GREGORIAN
METHOD:PUBLISH
X-WR-CALNAME:Johnson City Convention &amp; Visitor Bureau
X-ORIGINAL-URL:https://visitjohnsoncitytn.com
X-WR-CALDESC:Events for Johnson City Convention &amp; Visitor Bureau
REFRESH-INTERVAL;VALUE=DURATION:PT1H
X-Robots-Tag:noindex
X-PUBLISHED-TTL:PT1H
BEGIN:VTIMEZONE
TZID:America/New_York
BEGIN:DAYLIGHT
TZOFFSETFROM:-0500
TZOFFSETTO:-0400
TZNAME:EDT
DTSTART:20250309T070000
END:DAYLIGHT
BEGIN:STANDARD
TZOFFSETFROM:-0400
TZOFFSETTO:-0500
TZNAME:EST
DTSTART:20251102T060000
END:STANDARD
BEGIN:DAYLIGHT
TZOFFSETFROM:-0500
TZOFFSETTO:-0400
TZNAME:EDT
DTSTART:20260308T070000
END:DAYLIGHT
BEGIN:STANDARD
TZOFFSETFROM:-0400
TZOFFSETTO:-0500
TZNAME:EST
DTSTART:20261101T060000
END:STANDARD
BEGIN:DAYLIGHT
TZOFFSETFROM:-0500
TZOFFSETTO:-0400
TZNAME:EDT
DTSTART:20270314T070000
END:DAYLIGHT
BEGIN:STANDARD
TZOFFSETFROM:-0400
TZOFFSETTO:-0500
TZNAME:EST
DTSTART:20271107T060000
END:STANDARD
END:VTIMEZONE
BEGIN:VEVENT
DTSTART;TZID=America/New_York:20260512T100000
DTEND;TZID=America/New_York:20260512T110000
DTSTAMP:20260420T105232
CREATED:20260413T154227Z
LAST-MODIFIED:20260413T154227Z
UID:10009163-1778580000-1778583600@visitjohnsoncitytn.com
SUMMARY:Books in Bloom
DESCRIPTION:Books in Bloom is a FREE story time on the flower farm!\nJust bring a blanket or chair\, sunscreen & water or snacks.
URL:https://visitjohnsoncitytn.com/event/books-in-bloom/2026-05-12/
LOCATION:Harvey Family Farm\, 101 Harvey Lane\, Johnson City\, TN\, 37604\, United States
CATEGORIES:Educational,Entertainment,Family Events,Free,Live Performance,Outdoors
ATTACH;FMTTYPE=image/jpeg:https://visitjohnsoncitytn.com/wp-content/uploads/2026/04/651822453_913361821619597_5094048488740892037_n.jpg
END:VEVENT
BEGIN:VEVENT
DTSTART;TZID=America/New_York:20260609T100000
DTEND;TZID=America/New_York:20260609T110000
DTSTAMP:20260420T105232
CREATED:20260413T154227Z
LAST-MODIFIED:20260413T154227Z
UID:10009164-1780999200-1781002800@visitjohnsoncitytn.com
SUMMARY:Books in Bloom
DESCRIPTION:Books in Bloom is a FREE story time on the flower farm!\nJust bring a blanket or chair\, sunscreen & water or snacks.
URL:https://visitjohnsoncitytn.com/event/books-in-bloom/2026-06-09/
LOCATION:Harvey Family Farm\, 101 Harvey Lane\, Johnson City\, TN\, 37604\, United States
CATEGORIES:Educational,Entertainment,Family Events,Free,Live Performance,Outdoors
ATTACH;FMTTYPE=image/jpeg:https://visitjohnsoncitytn.com/wp-content/uploads/2026/04/651822453_913361821619597_5094048488740892037_n.jpg
END:VEVENT
BEGIN:VEVENT
DTSTART;TZID=America/New_York:20260714T100000
DTEND;TZID=America/New_York:20260714T110000
DTSTAMP:20260420T105232
CREATED:20260413T154227Z
LAST-MODIFIED:20260413T154227Z
UID:10009165-1784023200-1784026800@visitjohnsoncitytn.com
SUMMARY:Books in Bloom
DESCRIPTION:Books in Bloom is a FREE story time on the flower farm!\nJust bring a blanket or chair\, sunscreen & water or snacks.
URL:https://visitjohnsoncitytn.com/event/books-in-bloom/2026-07-14/
LOCATION:Harvey Family Farm\, 101 Harvey Lane\, Johnson City\, TN\, 37604\, United States
CATEGORIES:Educational,Entertainment,Family Events,Free,Live Performance,Outdoors
ATTACH;FMTTYPE=image/jpeg:https://visitjohnsoncitytn.com/wp-content/uploads/2026/04/651822453_913361821619597_5094048488740892037_n.jpg
END:VEVENT
BEGIN:VEVENT
DTSTART;TZID=America/New_York:20260811T100000
DTEND;TZID=America/New_York:20260811T110000
DTSTAMP:20260420T105232
CREATED:20260413T154227Z
LAST-MODIFIED:20260413T154227Z
UID:10009166-1786442400-1786446000@visitjohnsoncitytn.com
SUMMARY:Books in Bloom
DESCRIPTION:Books in Bloom is a FREE story time on the flower farm!\nJust bring a blanket or chair\, sunscreen & water or snacks.
URL:https://visitjohnsoncitytn.com/event/books-in-bloom/2026-08-11/
LOCATION:Harvey Family Farm\, 101 Harvey Lane\, Johnson City\, TN\, 37604\, United States
CATEGORIES:Educational,Entertainment,Family Events,Free,Live Performance,Outdoors
ATTACH;FMTTYPE=image/jpeg:https://visitjohnsoncitytn.com/wp-content/uploads/2026/04/651822453_913361821619597_5094048488740892037_n.jpg
END:VEVENT
BEGIN:VEVENT
DTSTART;TZID=America/New_York:20260908T100000
DTEND;TZID=America/New_York:20260908T110000
DTSTAMP:20260420T105232
CREATED:20260413T154227Z
LAST-MODIFIED:20260413T154227Z
UID:10009167-1788861600-1788865200@visitjohnsoncitytn.com
SUMMARY:Books in Bloom
DESCRIPTION:Books in Bloom is a FREE story time on the flower farm!\nJust bring a blanket or chair\, sunscreen & water or snacks.
URL:https://visitjohnsoncitytn.com/event/books-in-bloom/2026-09-08/
LOCATION:Harvey Family Farm\, 101 Harvey Lane\, Johnson City\, TN\, 37604\, United States
CATEGORIES:Educational,Entertainment,Family Events,Free,Live Performance,Outdoors
ATTACH;FMTTYPE=image/jpeg:https://visitjohnsoncitytn.com/wp-content/uploads/2026/04/651822453_913361821619597_5094048488740892037_n.jpg
END:VEVENT
BEGIN:VEVENT
DTSTART;TZID=America/New_York:20261013T100000
DTEND;TZID=America/New_York:20261013T110000
DTSTAMP:20260420T105232
CREATED:20260413T154227Z
LAST-MODIFIED:20260413T154227Z
UID:10009168-1791885600-1791889200@visitjohnsoncitytn.com
SUMMARY:Books in Bloom
DESCRIPTION:Books in Bloom is a FREE story time on the flower farm!\nJust bring a blanket or chair\, sunscreen & water or snacks.
URL:https://visitjohnsoncitytn.com/event/books-in-bloom/2026-10-13/
LOCATION:Harvey Family Farm\, 101 Harvey Lane\, Johnson City\, TN\, 37604\, United States
CATEGORIES:Educational,Entertainment,Family Events,Free,Live Performance,Outdoors
ATTACH;FMTTYPE=image/jpeg:https://visitjohnsoncitytn.com/wp-content/uploads/2026/04/651822453_913361821619597_5094048488740892037_n.jpg
END:VEVENT
END:VCALENDAR