BEGIN:VCALENDAR
VERSION:2.0
PRODID:-//Johnson City Convention &amp; Visitor Bureau - ECPv6.15.17//NONSGML v1.0//EN
CALSCALE:GREGORIAN
METHOD:PUBLISH
X-ORIGINAL-URL:https://visitjohnsoncitytn.com
X-WR-CALDESC:Events for Johnson City Convention &amp; Visitor Bureau
REFRESH-INTERVAL;VALUE=DURATION:PT1H
X-Robots-Tag:noindex
X-PUBLISHED-TTL:PT1H
BEGIN:VTIMEZONE
TZID:America/New_York
BEGIN:DAYLIGHT
TZOFFSETFROM:-0500
TZOFFSETTO:-0400
TZNAME:EDT
DTSTART:20250309T070000
END:DAYLIGHT
BEGIN:STANDARD
TZOFFSETFROM:-0400
TZOFFSETTO:-0500
TZNAME:EST
DTSTART:20251102T060000
END:STANDARD
BEGIN:DAYLIGHT
TZOFFSETFROM:-0500
TZOFFSETTO:-0400
TZNAME:EDT
DTSTART:20260308T070000
END:DAYLIGHT
BEGIN:STANDARD
TZOFFSETFROM:-0400
TZOFFSETTO:-0500
TZNAME:EST
DTSTART:20261101T060000
END:STANDARD
BEGIN:DAYLIGHT
TZOFFSETFROM:-0500
TZOFFSETTO:-0400
TZNAME:EDT
DTSTART:20270314T070000
END:DAYLIGHT
BEGIN:STANDARD
TZOFFSETFROM:-0400
TZOFFSETTO:-0500
TZNAME:EST
DTSTART:20271107T060000
END:STANDARD
END:VTIMEZONE
BEGIN:VEVENT
DTSTART;TZID=America/New_York:20260424T183000
DTEND;TZID=America/New_York:20260424T210000
DTSTAMP:20260425T075354
CREATED:20260407T150856Z
LAST-MODIFIED:20260407T150856Z
UID:10009117-1777055400-1777064400@visitjohnsoncitytn.com
SUMMARY:Calling All Musicians! - Open Mic Jam Session
DESCRIPTION: OPEN JAM SESSION @ OFF LEASH SOCIAL \nPlug in. Jump in. Play anything.\nJoin us for a laid-back\, high-energy Open Jam Session where anyone can jump in and play. No band\, no pressure—just great music\, good vibes\, and a crowd that’s here for it.\nWhether you’re a seasoned musician or just want to mess around and have fun\, this is your stage. Bring your instrument\, find your groove\, and be part of the sound.\n Dog-friendly always All skill levels welcome Full bar + food available\n Friday\, April 24 Starts at 6:30 PM Off Leash Social\nCome play\, or just hang out and enjoy the music. Either way\, it’s going to be a great night.
URL:https://visitjohnsoncitytn.com/event/calling-all-musicians-open-mic-jam-session/
LOCATION:Off Leash Social\, 234 Denny Mill Rd\, Johnson City\, TN\, 37604\, United States
CATEGORIES:Entertainment,Family Events,Food,Live Music,Live Performance,Outdoors
ATTACH;FMTTYPE=image/jpeg:https://visitjohnsoncitytn.com/wp-content/uploads/2026/04/666884563_935143945887380_6482108835489198044_n.jpg
END:VEVENT
BEGIN:VEVENT
DTSTART;TZID=America/New_York:20260424T170000
DTEND;TZID=America/New_York:20260424T230000
DTSTAMP:20260425T075354
CREATED:20260413T185544Z
LAST-MODIFIED:20260413T185544Z
UID:10009184-1777050000-1777071600@visitjohnsoncitytn.com
SUMMARY:8th Annual Upper East Tennessee Fiddlers Convention
DESCRIPTION:Join us for the Upper East Tennessee Fiddler’s Convention\, a celebration of our rich musical heritage that has thrived in this region for generations. Come out to compete\, cheer on competitors\, or attend a folk school workshop.\n4300 Old Asheville Hwy. Flag Pond\, TN.$10 entrance – $10 camping – Pay at the gate.\nSchedule Below:\nFriday\, April 24\, 20267:00pm: Square dance with a special performance by the Green Grass Cloggers and ETSU old-time band Twin Taters\nSaturday\, April 25\, 2026There is no advance registration\, registration opens on-site at 8am. Each event will begin immediately after the preceding event ends. Be sure to keep tabs on how things are progressing. Events will proceed in the following order:\n10:00am: Youth Competition (under 18)• Old-Time Banjo• Old-Time Fiddle\n12:00pm: Main Competition• Traditional Song• Old-Time Banjo• Old-Time Fiddle• Dance• Stringband\n6:00pm – 7:30pm: Supper\n7:30pm: Contest finals\n***Please note that times for finals are subject to change depending on the number of contestants. Events will start promptly at the end of the previous event. In other words\, there are no breaks. You are responsible for keeping track of what is happening on stage. If your number is called and you are not present\, you will lose your chance to compete.\nSaturday workshopsLocation TBA• Flatfooting: 1:00pm• Traditional singing: 2:15pm• 78rpm listening party with Ivy Sheppard: 6:00pm
URL:https://visitjohnsoncitytn.com/event/8th-annual-upper-east-tennessee-fiddlers-convention/2026-04-24/
LOCATION:Flag Pond Elementary School\, 4300 Old Asheville Hwy\, Flag Pond\, 37657\, United States
CATEGORIES:Cultural Experiences,Entertainment,Family Events,Food,Live Music,Live Performance,Outdoors
ATTACH;FMTTYPE=image/jpeg:https://visitjohnsoncitytn.com/wp-content/uploads/2026/04/659476331_1374353368046907_3196305360820091430_n.jpg
END:VEVENT
BEGIN:VEVENT
DTSTART;TZID=America/New_York:20260424T163000
DTEND;TZID=America/New_York:20260424T210000
DTSTAMP:20260425T075354
CREATED:20260306T200030Z
LAST-MODIFIED:20260316T145600Z
UID:10008920-1777048200-1777064400@visitjohnsoncitytn.com
SUMMARY:Forever Fest: West Walnut Block Party
DESCRIPTION:Join us on West Walnut Street at the Model Mill for an evening full of music\, community\, and celebration as we wrap up a week of generosity.\nIn collaboration with Young Professionals of Johnson City and Downtown Johnson City\, this block party brings together students\, alumni\, faculty\, staff\, and the entire community.\nEnjoy: Live Music Vintage Market + Local Vendors Face Painting & Inflatables ETSU Athletics & Campus Groups Charm Bar & Makers Tennessee Hills\, Groovy Grovers\, & Fearless Family-Friendly Activities & much more!\nWe’ll also have vendors including Product of Christ\, Some Apparel\, and many other local makers.\nWhether you’re an ETSU student\, alumni\, or part of the Tri-Cities community\, Forever Fest is a chance to celebrate ETSU\, connect with the community\, and close out Forever ETSU Week of Giving in a big way.\nBring your friends\, bring your family\, and come celebrate with us! More giveaways to come and follow us for more info.
URL:https://visitjohnsoncitytn.com/event/forever-fest-west-walnut-block-party/
LOCATION:Chamber of Commerce\, 602 Sevier Street\, Johnson City\, TN\, 37604\, United States
CATEGORIES:Cultural Experiences,Educational,Family Events,Festivals,Food,Free,Live Music,Live Performance,Outdoors
ATTACH;FMTTYPE=image/jpeg:https://visitjohnsoncitytn.com/wp-content/uploads/2026/03/646966683_1531035579028801_2937728172065599657_n.jpg
END:VEVENT
BEGIN:VEVENT
DTSTART;TZID=America/New_York:20260422T163000
DTEND;TZID=America/New_York:20260422T173000
DTSTAMP:20260425T075354
CREATED:20260407T201759Z
LAST-MODIFIED:20260407T201759Z
UID:10009126-1776875400-1776879000@visitjohnsoncitytn.com
SUMMARY:𝗧𝗿𝗮𝗶𝗹 𝗦𝘁𝗮𝗿𝘁𝗲𝗿𝘀: 𝗕𝗶𝗸𝗶𝗻𝗴 𝗕𝗮𝘀𝗶𝗰𝘀
DESCRIPTION: 𝗧𝗿𝗮𝗶𝗹 𝗦𝘁𝗮𝗿𝘁𝗲𝗿𝘀: 𝗕𝗶𝗸𝗶𝗻𝗴 𝗕𝗮𝘀𝗶𝗰𝘀 New to mountain biking? This ultra-beginner 4-week series is the perfect place to start! No experience necessary—just bring your enthusiasm and a bike! Small group (just 5 participants!) Learn pedaling\, braking\, shifting\, and more Build confidence on smooth terrain before hitting the trails Supportive\, no-pressure environment 𝗪𝗲𝗱𝗻𝗲𝘀𝗱𝗮𝘆𝘀 𝘀𝘁𝗮𝗿𝘁𝗶𝗻𝗴 𝗔𝗽𝗿𝗶𝗹 𝟮𝟮 4:30–5:30 p.m. Ages 8–12 $15/person Held at various Johnson City Parks Register by April 20 online or in person at Memorial Park Community Center!𝗥𝗲𝗴𝗶𝘀𝘁𝗲𝗿 𝗵𝗲𝗿𝗲: https://loom.ly/VIAco74 𝗪𝗵𝗮𝘁 𝘁𝗼 𝗕𝗿𝗶𝗻𝗴:• A properly fitted mountain bike• Helmet• Water• Closed-toe shoes (gloves encouraged!)Participants must already know how to ride confidently (balance\, start/stop independently). Parents welcome to ride along!#PlayAllOut #MountainBikingJohnson City Schools SORBA Tri-Cities Trek Bicycle Johnson City
URL:https://visitjohnsoncitytn.com/event/%f0%9d%97%a7%f0%9d%97%bf%f0%9d%97%ae%f0%9d%97%b6%f0%9d%97%b9-%f0%9d%97%a6%f0%9d%98%81%f0%9d%97%ae%f0%9d%97%bf%f0%9d%98%81%f0%9d%97%b2%f0%9d%97%bf%f0%9d%98%80-%f0%9d%97%95%f0%9d%97%b6%f0%9d%97%b8/2026-04-22/
LOCATION:Memorial Park Community Center\, 510 Bert St\, Johnson City\, TN\, 37601\, United States
CATEGORIES:Educational,Family Events,Outdoors,Sports
ATTACH;FMTTYPE=image/jpeg:https://visitjohnsoncitytn.com/wp-content/uploads/2026/04/666424157_1375354284635677_6001270487112096209_n.jpg
END:VEVENT
BEGIN:VEVENT
DTSTART;TZID=America/New_York:20260421T190000
DTEND;TZID=America/New_York:20260421T210000
DTSTAMP:20260425T075354
CREATED:20260413T184411Z
LAST-MODIFIED:20260413T184423Z
UID:10009182-1776798000-1776805200@visitjohnsoncitytn.com
SUMMARY:Bad Cats Brass Band Live
DESCRIPTION:The Bad Cats Brass Band are bringing their tunes to the backyard at the Walnut St Taproom! Join us for an evening of good tunes\, good friends\, and good brews!
URL:https://visitjohnsoncitytn.com/event/bad-cats-brass-band-live/
LOCATION:Johnson City Brewing Company – Walnut St\, 714 W Walnut St\, Johnson City\, TN\, 37604\, United States
CATEGORIES:Entertainment,Family Events,Food,Free,Live Music,Live Performance,Outdoors
ATTACH;FMTTYPE=image/jpeg:https://visitjohnsoncitytn.com/wp-content/uploads/2026/04/660431693_1574401541351732_6835653208537780915_n.jpg
END:VEVENT
BEGIN:VEVENT
DTSTART;TZID=America/New_York:20260421T190000
DTEND;TZID=America/New_York:20260421T210000
DTSTAMP:20260425T075354
CREATED:20260407T142712Z
LAST-MODIFIED:20260407T142712Z
UID:10009112-1776798000-1776805200@visitjohnsoncitytn.com
SUMMARY:Bad Cats Brass Band at Johnson City Brewing (Walnut St)
DESCRIPTION:Come see the bad cats out at JCB’s new taproom. There’s a huge yard and even a playground so very family friendly! FREE!
URL:https://visitjohnsoncitytn.com/event/bad-cats-brass-band-at-johnson-city-brewing-walnut-st/
LOCATION:Johnson City Brewing Company – Walnut St\, 714 W Walnut St\, Johnson City\, TN\, 37604\, United States
CATEGORIES:Entertainment,Family Events,Food,Free,Live Music,Live Performance,Outdoors
ATTACH;FMTTYPE=image/jpeg:https://visitjohnsoncitytn.com/wp-content/uploads/2026/04/658319492_122239225562550878_8354091591490633202_n.jpg
END:VEVENT
BEGIN:VEVENT
DTSTART;TZID=America/New_York:20260419T130000
DTEND;TZID=America/New_York:20260419T170000
DTSTAMP:20260425T075354
CREATED:20260209T195457Z
LAST-MODIFIED:20260209T195457Z
UID:10008176-1776603600-1776618000@visitjohnsoncitytn.com
SUMMARY:Spring Sip & Shop At the Brew
DESCRIPTION:Celebrate the season with a Sunday Funday at the Brew!   Sip\, shop\, and stroll through our Spring Market featuring 10+ local vendors offering everything from clothing\, plants\, and jewelry to unique handmade goods.\n Live Music: Enjoy tunes from Preston Benfield ft. Jonathan Grindstaff while you browse. Food & Drinks: Grab a bite from Fowl Play Café food truck and Charcute Mobile Charcuterie\, and sip on refreshing spring cocktails.\nBring your friends and family for an afternoon of great food\, drinks\, shopping\, and music. All ages welcome!
URL:https://visitjohnsoncitytn.com/event/spring-sip-shop-at-the-brew/
LOCATION:Tennessee Hills Brewstillery\, 458 W Walnut St\, Johnson City\, TN\, 37604\, United States
CATEGORIES:Arts & Crafts,Family Events,Live Music,Live Performance,Outdoors,Shopping
ATTACH;FMTTYPE=image/jpeg:https://visitjohnsoncitytn.com/wp-content/uploads/2026/02/626794681_964444329244645_2835019492164366474_n.jpg
END:VEVENT
BEGIN:VEVENT
DTSTART;TZID=America/New_York:20260419T130000
DTEND;TZID=America/New_York:20260419T160000
DTSTAMP:20260425T075354
CREATED:20251216T154323Z
LAST-MODIFIED:20251216T154323Z
UID:10006906-1776603600-1776614400@visitjohnsoncitytn.com
SUMMARY:ETSU vs The Citadel Baseball
DESCRIPTION:
URL:https://visitjohnsoncitytn.com/event/etsu-vs-the-citadel-baseball/2026-04-19/
LOCATION:ETSU Thomas Stadium\, 1100 University Pkwy\, Johnson City\, TN\, United States
CATEGORIES:Outdoors,Sports
ATTACH;FMTTYPE=image/png:https://visitjohnsoncitytn.com/wp-content/uploads/2025/12/Citadel_Bulldogs_logo.svg_.png
END:VEVENT
BEGIN:VEVENT
DTSTART;TZID=America/New_York:20260418T170000
DTEND;TZID=America/New_York:20260418T193000
DTSTAMP:20260425T075354
CREATED:20260331T184653Z
LAST-MODIFIED:20260331T184653Z
UID:10009096-1776531600-1776540600@visitjohnsoncitytn.com
SUMMARY:April 18th Wildflower Hike 2026
DESCRIPTION:Wildflower season is just around the corner! We will make our way down Rocky Fork and Flint Creek trails exploring the various wildflower species. We will stop and explore wildflowers along the forest floor. On our hike we will see native wildflowers at various stages.\n$10.00 per person sign up at the park website to reserve your spot!
URL:https://visitjohnsoncitytn.com/event/april-18th-wildflower-hike-2026/
LOCATION:Rocky Fork State Park\, 501 Rocky Fork Rd\, Flag Pond\, TN\, 37657\, United States
CATEGORIES:Educational,Family Events,Outdoors,Sports
ATTACH;FMTTYPE=image/jpeg:https://visitjohnsoncitytn.com/wp-content/uploads/2026/03/653806896_1266608855570338_1447194421088389242_n.jpg
END:VEVENT
BEGIN:VEVENT
DTSTART;TZID=America/New_York:20260418T140000
DTEND;TZID=America/New_York:20260418T170000
DTSTAMP:20260425T075354
CREATED:20251216T154323Z
LAST-MODIFIED:20251216T154323Z
UID:10006905-1776520800-1776531600@visitjohnsoncitytn.com
SUMMARY:ETSU vs The Citadel Baseball
DESCRIPTION:
URL:https://visitjohnsoncitytn.com/event/etsu-vs-the-citadel-baseball/2026-04-18/
LOCATION:ETSU Thomas Stadium\, 1100 University Pkwy\, Johnson City\, TN\, United States
CATEGORIES:Outdoors,Sports
ATTACH;FMTTYPE=image/png:https://visitjohnsoncitytn.com/wp-content/uploads/2025/12/Citadel_Bulldogs_logo.svg_.png
END:VEVENT
BEGIN:VEVENT
DTSTART;TZID=America/New_York:20260418T130000
DTEND;TZID=America/New_York:20260418T180000
DTSTAMP:20260425T075354
CREATED:20260224T161817Z
LAST-MODIFIED:20260224T161817Z
UID:10008816-1776517200-1776535200@visitjohnsoncitytn.com
SUMMARY:Thirsty Orange Beer Festival 2026
DESCRIPTION:Thirsty Orange Beer Festival returns on Saturday\, April 18\, 2026 for a full day of sampling 150+ craft beers\, ciders\, and meads from breweries across the region. Expect great drinks\, food trucks\, and a true beer-festival atmosphere in the heart of Johnson City.\nThis is a 21+ event. Valid ID required.\nEntry TimesPremium Access ticket holders may enter at 1:00 PMGeneral Admission begins at 2:00 PM\nTicket TypesGeneral AdmissionPremium Access\n What to Expect:• 150+ beers\, ciders & meads to sample• Breweries pouring exclusive & limited releases• Food trucks galore• Live music & festival vibes• Commemorative tasting glass included• 21+ event (valid ID required)\n\n Location: Founders Park\, Johnson City\, TN Date: Saturday\, April 18\, 2026\n Tickets: Available now at thirstyorange.com
URL:https://visitjohnsoncitytn.com/event/thirsty-orange-beer-festival-2026/
LOCATION:Founders Park\, 225 Commerce St\, Johnson City\, TN\, 37604\, United States
CATEGORIES:Festivals,Food,Live Music,Outdoors
ATTACH;FMTTYPE=image/jpeg:https://visitjohnsoncitytn.com/wp-content/uploads/2026/02/638855097_895994993041847_7514976576461097920_n-1.jpg
END:VEVENT
BEGIN:VEVENT
DTSTART;TZID=America/New_York:20260418T100000
DTEND;TZID=America/New_York:20260418T140000
DTSTAMP:20260425T075354
CREATED:20260331T201809Z
LAST-MODIFIED:20260331T201809Z
UID:10009102-1776506400-1776520800@visitjohnsoncitytn.com
SUMMARY:Fly Fishing Mountain Stream Workshop
DESCRIPTION:Ever wanted to try your hand at fly fishing? Join us for a beginner-friendly workshop where you’ll learn the basics of this timeless mountain sport while discovering the story of Rocky Fork’s native brook trout.\nDuring this 4-hour course\, participants will:\n• Learn how to set up a fly rod\, tie essential knots\, and choose the right flies\n• Practice casting techniques for small Appalachian streams\n• Gain hands-on fishing experience in Rocky Fork’s pristine waters\nWinter offers a unique experience on the water. Brook trout and wild rainbow trout remain active in cold conditions\, and we’ll share tips for fishing responsibly during this season while protecting sensitive habitats.\nDetails:\nMeeting Location: Ranger Station\, 280 Jennie Moore Rd\, Flag Pond\, TN 37657\n(GPS: 36.03603\, -82.55135)\nDuration: 4 hours\nAges: 13+\, limited to 6 participants\nLicense: A valid Tennessee fishing license and a trout permit are required if you plan to fish\nGear: Fly rods and basic gear will be provided\, but you’re welcome to bring your own\nWhat to Wear: Water shoes or wading boots and clothing suitable for cold\, shallow creeks
URL:https://visitjohnsoncitytn.com/event/fly-fishing-mountain-stream-workshop/
LOCATION:Rocky Fork State Park\, 501 Rocky Fork Rd\, Flag Pond\, TN\, 37657\, United States
CATEGORIES:Educational,Entertainment,Family Events,Outdoors,Sports
ATTACH;FMTTYPE=image/jpeg:https://visitjohnsoncitytn.com/wp-content/uploads/2026/03/658471935_1274610841436806_8730477899258801980_n-1.jpg
END:VEVENT
BEGIN:VEVENT
DTSTART;TZID=America/New_York:20260418T100000
DTEND;TZID=America/New_York:20260418T130000
DTSTAMP:20260425T075354
CREATED:20260324T173554Z
LAST-MODIFIED:20260324T173623Z
UID:10009067-1776506400-1776517200@visitjohnsoncitytn.com
SUMMARY:Community Patio Gardening Day
DESCRIPTION:This spring Johnson’s Literary Depot is turning our patio into a small downtown garden — a place to read\, gather\, rest\, and share stories.\n\n\nWe’re inviting the community to help build it.\n\n\nJoin us for a hands-on volunteer day installing planters\, filling soil\, planting native flowers and herbs\, and preparing a welcoming outdoor reading space for families\, kids\, and neighbors. No gardening experience needed. Just show up ready to help.\n\n\n 333 E Main Street\n April 18th\, 2026\n 10:00AM – 1:00PM – Drop in Anytime\n\n\nFor more information about how to get involved\, donate\, & see what our plans are visit: https://www.johnsonsliterarydepot.com/community-patio-day
URL:https://visitjohnsoncitytn.com/event/17023/
LOCATION:Johnson’s Literary Depot\, 333 E. Main St\, Johnson City\, TN\, 37601\, United States
CATEGORIES:Arts & Crafts,Educational,Family Events,Free,Outdoors
ATTACH;FMTTYPE=image/jpeg:https://visitjohnsoncitytn.com/wp-content/uploads/2026/03/639901625_17929687461207459_1815011848224406729_n.jpg
END:VEVENT
BEGIN:VEVENT
DTSTART;TZID=America/New_York:20260418T090000
DTEND;TZID=America/New_York:20260418T160000
DTSTAMP:20260425T075354
CREATED:20260327T155952Z
LAST-MODIFIED:20260327T155952Z
UID:10009082-1776502800-1776528000@visitjohnsoncitytn.com
SUMMARY:Spring Festival
DESCRIPTION:Entertainment\, Vendors\, Farmers Market\, Pony Rides\, and so much more! We would love to see you there! Free admission!
URL:https://visitjohnsoncitytn.com/event/spring-festival/
LOCATION:Mason Valley Ranch\, 201 Mitchell Ridge Road\, Jonesborough\, TN\, 37659\, United States
CATEGORIES:Arts & Crafts,Cultural Experiences,Educational,Entertainment,Family Events,Festivals,Food,Free,Live Music,Outdoors
ATTACH;FMTTYPE=image/jpeg:https://visitjohnsoncitytn.com/wp-content/uploads/2026/03/645060252_122237808044259595_2907992675008631384_n.jpg
END:VEVENT
BEGIN:VEVENT
DTSTART;TZID=America/New_York:20260417T183000
DTEND;TZID=America/New_York:20260417T203000
DTSTAMP:20260425T075354
CREATED:20260413T184117Z
LAST-MODIFIED:20260413T184117Z
UID:10009181-1776450600-1776457800@visitjohnsoncitytn.com
SUMMARY:Jason Hardy Live
DESCRIPTION:Jason Hardy will be playing live in the backyard at the Walnut St Taproom! Show is free to attend and you can watch Jason be the first to break in the dock for our first outdoor live event. Cheers!
URL:https://visitjohnsoncitytn.com/event/jason-hardy-live/
LOCATION:Johnson City Brewing Company – Walnut St\, 714 W Walnut St\, Johnson City\, TN\, 37604\, United States
CATEGORIES:Entertainment,Family Events,Food,Free,Live Music,Live Performance,Outdoors
ATTACH;FMTTYPE=image/jpeg:https://visitjohnsoncitytn.com/wp-content/uploads/2026/04/669035502_1579410257517527_1734803276761068897_n.jpg
END:VEVENT
BEGIN:VEVENT
DTSTART;TZID=America/New_York:20260417T170000
DTEND;TZID=America/New_York:20260417T200000
DTSTAMP:20260425T075354
CREATED:20251216T154323Z
LAST-MODIFIED:20251216T154323Z
UID:10006904-1776445200-1776456000@visitjohnsoncitytn.com
SUMMARY:ETSU vs The Citadel Baseball
DESCRIPTION:
URL:https://visitjohnsoncitytn.com/event/etsu-vs-the-citadel-baseball/2026-04-17/
LOCATION:ETSU Thomas Stadium\, 1100 University Pkwy\, Johnson City\, TN\, United States
CATEGORIES:Outdoors,Sports
ATTACH;FMTTYPE=image/png:https://visitjohnsoncitytn.com/wp-content/uploads/2025/12/Citadel_Bulldogs_logo.svg_.png
END:VEVENT
BEGIN:VEVENT
DTSTART;TZID=America/New_York:20260405T120000
DTEND;TZID=America/New_York:20260405T140000
DTSTAMP:20260425T075354
CREATED:20251124T175603Z
LAST-MODIFIED:20260316T161110Z
UID:10006219-1775390400-1775397600@visitjohnsoncitytn.com
SUMMARY:Rocky Fork Cleanup
DESCRIPTION:This event will be held on the first sunday of every month\, with the goal of keeping Rocky Fork’s trails and creeks free of litter. Meet Park Ranger Cory Franklin at the Park Ranger Station (280 Jennie Moore Rd.). From there we will go to our cleanup location.\nRocky Fork has the cleanest water of any tributary in the Nolichucky River Watershed. With 2\,000 acres of park land surrounded by 8\,000 acres of National Forest. We aim to keep Rocky Fork pristine and would love to have your help!\nGloves and trash bags will be provided but feel free to bring your own supplies.\nAll ages welcome!
URL:https://visitjohnsoncitytn.com/event/rocky-fork-cleanup/2026-04-05/
LOCATION:Rocky Fork State Park\, 501 Rocky Fork Rd\, Flag Pond\, TN\, 37657\, United States
CATEGORIES:Cultural Experiences,Free,Outdoors
ATTACH;FMTTYPE=image/jpeg:https://visitjohnsoncitytn.com/wp-content/uploads/2025/11/585373360_1175252761372615_2125436330441174894_n.jpg
END:VEVENT
BEGIN:VEVENT
DTSTART;TZID=America/New_York:20260328T140000
DTEND;TZID=America/New_York:20260328T150000
DTSTAMP:20260425T075354
CREATED:20260223T200908Z
LAST-MODIFIED:20260223T201037Z
UID:10008760-1774706400-1774710000@visitjohnsoncitytn.com
SUMMARY:Blacksmith Workshop
DESCRIPTION:𝐓𝐡𝐞 𝐁𝐥𝐚𝐜𝐤𝐬𝐦𝐢𝐭𝐡 𝐖𝐨𝐫𝐤𝐬𝐡𝐨𝐩 𝐢𝐬 𝐎𝐏𝐄𝐍!Join us for a hands-on blacksmith workshop at Rocky Mount. Students age 9 and up learn basic and beginner blacksmithing techniques. The session emphasizes 18th-century techniques with modern and colonial methods and guides participants through creating modern metalwork in the same vein as they did 250 years ago.\nWhat to expect:\nWorking with a fully functional forge lead by Rocky Mount’s established Blacksmith.\nLearn how to craft unique creations in a similar vein to those from the 1700s.\nGates will open 30 minutes prior to class start\nPlease allot enough time in order to get checked in and meet your instructor.\nWhat to know before registration:\nParticipants must be age 9+ for safety purposes\nClosed-toed shoes required.\nWe recommend clothing that is easy to move in.\nIf the weather does not co-operate and the workshop must be rescheduled; you will be refunded in full.\nPre-registration is required due to limited workspace and small class size. Registration closes noon the Friday before.\nLearn more and claim your spot at www.rockymountmuseum.com/events
URL:https://visitjohnsoncitytn.com/event/blacksmith-workshop/2026-03-28/
LOCATION:Rocky Mount State Historic Site\, 200 Hyder Hill Rd\, Piney Flats\, TN\, 37686\, United States
CATEGORIES:Arts & Crafts,Cultural Experiences,Educational,Family Events,Live Performance,Outdoors
ATTACH;FMTTYPE=image/jpeg:https://visitjohnsoncitytn.com/wp-content/uploads/2026/02/636793838_1336458771862281_8238672325316907888_n.jpg
END:VEVENT
END:VCALENDAR